BEGIN:VCALENDAR
VERSION:2.0
PRODID:-//Tourism Perak Malaysia - ECPv6.15.20//NONSGML v1.0//EN
CALSCALE:GREGORIAN
METHOD:PUBLISH
X-WR-CALNAME:Tourism Perak Malaysia
X-ORIGINAL-URL:https://www.tourismperakmalaysia.com
X-WR-CALDESC:Events for Tourism Perak Malaysia
REFRESH-INTERVAL;VALUE=DURATION:PT1H
X-Robots-Tag:noindex
X-PUBLISHED-TTL:PT1H
BEGIN:VTIMEZONE
TZID:Asia/Shanghai
BEGIN:STANDARD
TZOFFSETFROM:+0800
TZOFFSETTO:+0800
TZNAME:CST
DTSTART:20210101T000000
END:STANDARD
END:VTIMEZONE
BEGIN:VEVENT
DTSTART;TZID=Asia/Shanghai:20230715T080000
DTEND;TZID=Asia/Shanghai:20230715T170000
DTSTAMP:20260425T192521
CREATED:20230705T162611Z
LAST-MODIFIED:20230705T162614Z
UID:5524-1689408000-1689440400@www.tourismperakmalaysia.com
SUMMARY:Pertandingan Koir PBT
DESCRIPTION:Pertandingan Koir PBT
URL:https://www.tourismperakmalaysia.com/event/pertandingan-koir-pbt/
LOCATION:Stadium Indera Mulia\, Ipoh\, Kompleks Sukan Ipoh\, Ipoh\, Perak\, 31400\, Malaysia
CATEGORIES:Competition
END:VEVENT
BEGIN:VEVENT
DTSTART;TZID=Asia/Shanghai:20230714T100000
DTEND;TZID=Asia/Shanghai:20230716T210000
DTSTAMP:20260425T192521
CREATED:20230714T103115Z
LAST-MODIFIED:20230714T103833Z
UID:5662-1689328800-1689541200@www.tourismperakmalaysia.com
SUMMARY:Perak Travel Fair 2.0
DESCRIPTION:Perhatian orang-orang Kuala Lumpur\, kami akan bawa negeri Perak ke sana. Pelbagai program & aktiviti akan dijalankan antaranya: \n\n\n\n\nPersembahan Kebudayaan\n\n\n\nJualan Makanan\n\n\n\nJualan Kraftangan\n\n\n\nJualan Pakej & Produk Pelancongan\n\n\n\nGameshow & Kuiz Pelancongan\n\n\n\nSharing Session\n\n\n\n\nBukan itu sahaja\, Majlis Pelancaran Logo Tahun Melawat Perak 2024 juga akan dilancarkan pada 16 Julai 2023 jam 3.00 pm di tempat yang sama. \n\n\n\nAte! Ape lagi kome? Jangan lepaskan peluang kenali negeri Perak di sana nanti. \n\n\n\n14-16 Julai 2023NU Sentral\, Kuala Lumpur10.00 am – 9.00 pm \n\n\n\n\n\n\n\n\n\n\n\n\n\n\n\n\n\n\n\n\n\n\n\n\n\n\n\n\n\n\nPerak Travel Fair 2.0 \n14-16 Julai 2023\nNU Sentral\, Kuala Lumpur\n10.00 am – 9.00 pm
URL:https://www.tourismperakmalaysia.com/event/perak-travel-fair-2-0/
LOCATION:Nu Sentral\, Kuala Lumpur\, 201\, Jalan Tun Sambanthan\, Kuala Lumpur\, Kuala Lumpur\, 50470\, Malaysia
CATEGORIES:Expos and Fairs,Tahun Melawat Perak 2024
ATTACH;FMTTYPE=image/jpeg:https://www.tourismperakmalaysia.com/wp-content/uploads/2023/07/PERAK-TRAVEL-FAIR-JUL2023-1.jpg
ORGANIZER;CN="Tourism Perak":MAILTO:wow@tourismperakmalaysia.com
END:VEVENT
BEGIN:VEVENT
DTSTART;TZID=Asia/Shanghai:20230707T000000
DTEND;TZID=Asia/Shanghai:20230709T235959
DTSTAMP:20260425T192521
CREATED:20230705T162439Z
LAST-MODIFIED:20230705T162443Z
UID:5519-1688688000-1688947199@www.tourismperakmalaysia.com
SUMMARY:Program Warisan @ Lenggong Sempena Ulangtahun Pengiktirafan UNESCO
DESCRIPTION:Gambar: Jabatan Warisan Negara\n\n\n\nNama Malaysia sekali lagi diangkat di persada antarabangsa apabila Warisan Arkeologi Lembah Lenggong berjaya diiktiraf sebagai Tapak Warisan Dunia semasa mesyuarat World Heritage Committee sesi ke-36 yang diadakan di Saint Petersburg\, Rusia pada 30 Jun 2012.
URL:https://www.tourismperakmalaysia.com/event/program-warisan-lenggong-sempena-ulangtahun-pengiktirafan-unesco/
LOCATION:Dataran Lenggong\, Kampung Lenggong\, Lenggong\, Perak\, 33400\, Malaysia
CATEGORIES:Festivals
ATTACH;FMTTYPE=image/jpeg:https://www.tourismperakmalaysia.com/wp-content/uploads/2023/07/Lenggong.jpg
END:VEVENT
BEGIN:VEVENT
DTSTART;TZID=Asia/Shanghai:20220918T080000
DTEND;TZID=Asia/Shanghai:20220918T170000
DTSTAMP:20260425T192521
CREATED:20220906T181439Z
LAST-MODIFIED:20220906T181552Z
UID:4084-1663488000-1663520400@www.tourismperakmalaysia.com
SUMMARY:Ipoh 7 Bridges Run 2022
DESCRIPTION:Let’s join the HTM Ipoh 7 Bridges Run 2022!
URL:https://www.tourismperakmalaysia.com/event/ipoh-7-bridges-run-2022/
LOCATION:Stadium Indera Mulia\, Ipoh\, Kompleks Sukan Ipoh\, Ipoh\, Perak\, 31400\, Malaysia
ATTACH;FMTTYPE=image/jpeg:https://www.tourismperakmalaysia.com/wp-content/uploads/2022/09/Ipoh-7-Bridges-Run-2022.jpg
END:VEVENT
BEGIN:VEVENT
DTSTART;TZID=Asia/Shanghai:20220312T000000
DTEND;TZID=Asia/Shanghai:20220313T235959
DTSTAMP:20260425T192521
CREATED:20220218T043718Z
LAST-MODIFIED:20220218T043721Z
UID:3757-1647043200-1647215999@www.tourismperakmalaysia.com
SUMMARY:Kampar River Festival
DESCRIPTION:Kampar River Festival is Malaysia’s first white-water rafting event on international level complete with global accreditations\, takes place at Kampar River in Gopeng. This festival combines sport and sustainability to unite the community\, the first world-class river sports tourism festival in Perak featuring  rafting race\, kayak race\, river tubing race plus interactive activities for all via geopark seminar\, river conservation efforts and celebration of culture and heritage among others.
URL:https://www.tourismperakmalaysia.com/event/kampar-river-festival/
CATEGORIES:Adventure,Festivals
ATTACH;FMTTYPE=image/jpeg:https://www.tourismperakmalaysia.com/wp-content/uploads/2022/02/B035679D-537C-4030-8AD2-901CAC3F1F31-scaled.jpeg
END:VEVENT
END:VCALENDAR