BEGIN:VCALENDAR
VERSION:2.0
PRODID:-//Tourism Perak Malaysia - ECPv6.15.20//NONSGML v1.0//EN
CALSCALE:GREGORIAN
METHOD:PUBLISH
X-ORIGINAL-URL:https://www.tourismperakmalaysia.com
X-WR-CALDESC:Events for Tourism Perak Malaysia
REFRESH-INTERVAL;VALUE=DURATION:PT1H
X-Robots-Tag:noindex
X-PUBLISHED-TTL:PT1H
BEGIN:VTIMEZONE
TZID:Asia/Shanghai
BEGIN:STANDARD
TZOFFSETFROM:+0800
TZOFFSETTO:+0800
TZNAME:CST
DTSTART:20250101T000000
END:STANDARD
END:VTIMEZONE
BEGIN:VEVENT
DTSTART;TZID=Asia/Shanghai:20260501T080000
DTEND;TZID=Asia/Shanghai:20260503T170000
DTSTAMP:20260425T235509
CREATED:20260415T085859Z
LAST-MODIFIED:20260415T085918Z
UID:11689-1777622400-1777827600@www.tourismperakmalaysia.com
SUMMARY:Hari Terbuka Armada
DESCRIPTION:Hari Terbuka Armada (HTA) 2026 sempena sambutan Hari TLDM ke-92 akan berlangsung di Pangkalan TLDM Lumut\, Perak\, dari 1 hingga 3 Mei 2026. Acara ini dijangka memaparkan aset-aset pertahanan negara\, aktiviti menyelam\, dan peluang mendekati warga Navy People.
URL:https://www.tourismperakmalaysia.com/event/hari-terbuka-armada/
LOCATION:Perak
CATEGORIES:Festivals
ORGANIZER;CN="Tentera Laut Diraja Malaysia":MAILTO:pr_mktl@navy.mil.my
END:VEVENT
BEGIN:VEVENT
DTSTART;TZID=Asia/Shanghai:20260509T080000
DTEND;TZID=Asia/Shanghai:20260509T170000
DTSTAMP:20260425T235509
CREATED:20260415T090706Z
LAST-MODIFIED:20260415T090720Z
UID:11693-1778313600-1778346000@www.tourismperakmalaysia.com
SUMMARY:Pesta Kebudayaan dan Masyarakat Orang Asli
DESCRIPTION:MEMELIHARA WARISAN BUDAYA ETNIK ORANG ASLI\, MEMPAMERKAN KEUNIKAN BUDAYA KEPADA MASYARAKAT LUAR\, MENGUKUHKAN PERPADUAN DIKALANGAN ORANG ASLI\, MENINGKAT EKONOMI SETEMPAT SERTA DAPAT MENJADIKAN MEDIUM PELANCONGAN BUDAYA ETNIK.
URL:https://www.tourismperakmalaysia.com/event/pesta-kebudayaan-dan-masyarakat-orang-asli/
LOCATION:Kampung Kenang\, Sungai Siput\, Perak
CATEGORIES:Festivals
ORGANIZER;CN="Jabatan Kemajuan Orang Asli (JAKOA)":MAILTO:hazwan@jakoa.gov.my
END:VEVENT
BEGIN:VEVENT
DTSTART;TZID=Asia/Shanghai:20260510T053000
DTEND;TZID=Asia/Shanghai:20260510T110000
DTSTAMP:20260425T235509
CREATED:20260415T102000Z
LAST-MODIFIED:20260415T102017Z
UID:11706-1778391000-1778410800@www.tourismperakmalaysia.com
SUMMARY:Pantai Remis Half Marathon (2026)
DESCRIPTION:Pantai Remis Half Marathon 2026\n\n\n\nPantai Remis Half Marathon 2026 adalah acara larian tahunan yang dianjurkan oleh Pusat Khidmat Rakyat Parlimen Beruas dan DUN Pengkalan Baharu. Bertempat di SMK Pantai Remis\, acara ini menawarkan pelbagai kategori larian termasuk 5 km\, 7 km\, 12 km dan 21.1 km (Half Marathon)\, sesuai untuk peserta dari pelbagai peringkat umur dan tahap kecergasan. \n\n\n\nProgram ini bertujuan menggalakkan gaya hidup sihat\, mengeratkan silaturahim komuniti\, serta mempromosikan Pantai Remis sebagai destinasi sukan rekreasi dan pelancongan aktif.
URL:https://www.tourismperakmalaysia.com/event/pantai-remis-half-marathon-2026/
LOCATION:SMK Pantai Remis\, Jalan Taman Bintang\, Taman Sri Bintang\, Pantai Remis\, Perak\, 34900\, Malaysia
CATEGORIES:Competition
ATTACH;FMTTYPE=image/jpeg:https://www.tourismperakmalaysia.com/wp-content/uploads/2026/04/Pantai-Remis-Half-Marathon-2026.jpg
END:VEVENT
BEGIN:VEVENT
DTSTART;TZID=Asia/Shanghai:20260510T070000
DTEND;TZID=Asia/Shanghai:20260510T170000
DTSTAMP:20260425T235509
CREATED:20260415T092358Z
LAST-MODIFIED:20260415T092417Z
UID:11699-1778396400-1778432400@www.tourismperakmalaysia.com
SUMMARY:Gerik Trail Run 2026
DESCRIPTION:Gerik Trail Run 2026\n\n\n\nGerik Trail Run 2026 merupakan acara larian lasak yang menghimpunkan peminat sukan dan pencinta alam semula jadi untuk meneroka keindahan laluan hutan di Gerik. Acara ini menawarkan pengalaman larian yang mencabar namun menyeronokkan\, sesuai untuk peserta pelbagai peringkat. \n\n\n\nPenganjuran program ini bertujuan menggalakkan gaya hidup sihat di samping mempromosikan keunikan landskap semula jadi Perak sebagai destinasi sukan rekreasi dan pelancongan aktif. Acara ini turut membuka peluang kepada komuniti sukan untuk berhubung dan berkongsi pengalaman dalam suasana yang bertenaga dan positif.
URL:https://www.tourismperakmalaysia.com/event/gerik-trail-run-2026/
LOCATION:Lapangan Terbang Gerik\, Gerik Airstrip (WMAH)\, Gerik\, Perak\, 33300\, Malaysia
CATEGORIES:Competition
ATTACH;FMTTYPE=image/jpeg:https://www.tourismperakmalaysia.com/wp-content/uploads/2026/04/Gerik-Trail-Run-2026.jpeg
ORGANIZER;CN="Gerik Running Club":MAILTO:gerikrunningclub@gmail.com
END:VEVENT
BEGIN:VEVENT
DTSTART;TZID=Asia/Shanghai:20260523T080000
DTEND;TZID=Asia/Shanghai:20260524T230000
DTSTAMP:20260425T235509
CREATED:20260415T110544Z
LAST-MODIFIED:20260415T110603Z
UID:11711-1779523200-1779663600@www.tourismperakmalaysia.com
SUMMARY:PATRIOT 200 Ultra-Marathon
DESCRIPTION:Patriot200 Ultra-Marathon 2026\n\n\n\nPatriot200 ialah acara larian ultra sejauh 200 kilometer yang bermula dari Taiping dan berakhir di Padang Astaka Bunga Raya\, Lenggong. Program ini menguji ketahanan fizikal dan mental para pelari sambil memperkenalkan keindahan landskap semula jadi serta warisan budaya sepanjang laluan menuju ke Lenggong Geopark. Selain itu\, acara ini juga bertujuan untuk memupuk semangat patriotisme\, ketabahan\, dan kecintaan terhadap alam sekitar serta tanah air.
URL:https://www.tourismperakmalaysia.com/event/patriot-200-ultra-marathon/
LOCATION:Taiping
CATEGORIES:Competition
ATTACH;FMTTYPE=image/jpeg:https://www.tourismperakmalaysia.com/wp-content/uploads/2026/04/Patriot200-Ultra-Marathon-2026.jpg
END:VEVENT
END:VCALENDAR