BEGIN:VCALENDAR
VERSION:2.0
PRODID:-//Tourism Perak Malaysia - ECPv6.15.18//NONSGML v1.0//EN
CALSCALE:GREGORIAN
METHOD:PUBLISH
X-ORIGINAL-URL:https://www.tourismperakmalaysia.com
X-WR-CALDESC:Events for Tourism Perak Malaysia
REFRESH-INTERVAL;VALUE=DURATION:PT1H
X-Robots-Tag:noindex
X-PUBLISHED-TTL:PT1H
BEGIN:VTIMEZONE
TZID:Asia/Shanghai
BEGIN:STANDARD
TZOFFSETFROM:+0800
TZOFFSETTO:+0800
TZNAME:CST
DTSTART:20220101T000000
END:STANDARD
END:VTIMEZONE
BEGIN:VEVENT
DTSTART;TZID=Asia/Shanghai:20260218T080000
DTEND;TZID=Asia/Shanghai:20260222T170000
DTSTAMP:20260421T014109
CREATED:20260215T171729Z
LAST-MODIFIED:20260215T171745Z
UID:11633-1771401600-1771779600@www.tourismperakmalaysia.com
SUMMARY:Pesta Budaya Tahun Baru Cina 2026 @riverfront Old Town
DESCRIPTION:Pesta Budaya Tahun Baru Cina 2026 akan berlangsung pada 12–15 dan 18–22 Februari 2026\, bermula 4.00 petang hingga 11.00 malam di Kinta Riverwalk\, Ipoh\, menampilkan pelbagai aktiviti menarik sempena musim perayaan termasuk Bazar Tahun Baru Cina\, persembahan Tarian Singa dan Naga\, “24 Festive Drum” serta Orkestra Cina\, persembahan kebudayaan dan live band\, fashion show tradisional\, pertunjukan bunga api serta sesi meet & greet bersama maskot Tahun Melawat Malaysia 2026\, sekali gus menjanjikan pengalaman festival budaya yang meriah dan penuh warna-warni untuk dinikmati bersama keluarga dan rakan-rakan di tengah bandar Ipoh. \n\n\n\nPesta Budaya Tahun Baru Cina 2026 @riverfront Old Town
URL:https://www.tourismperakmalaysia.com/event/pesta-budaya-tahun-baru-cina-2026-riverfront-old-town-2/
LOCATION:Kinta Riverwalk\, Ipoh\, Perak\, Kinta Riverwalk\, Ipoh\, Perak\, 30000\, Malaysia
CATEGORIES:Cultural,Festivals
ATTACH;FMTTYPE=image/jpeg:https://www.tourismperakmalaysia.com/wp-content/uploads/2026/02/IMG_4032.jpeg
ORGANIZER;CN="Tourism Perak":MAILTO:wow@tourismperakmalaysia.com
END:VEVENT
BEGIN:VEVENT
DTSTART;TZID=Asia/Shanghai:20260214T080000
DTEND;TZID=Asia/Shanghai:20260214T170000
DTSTAMP:20260421T014109
CREATED:20260215T165748Z
LAST-MODIFIED:20260215T165927Z
UID:11622-1771056000-1771088400@www.tourismperakmalaysia.com
SUMMARY:Sambutan Tahun Baharu Cina @ Lorong Seni Ipoh
DESCRIPTION:Sambutan Tahun Baharu Cina di Lorong Seni @ Lorong Panglima\, Ipoh bakal berlangsung pada 14 Februari 2026\, anjuran Majlis Bandaraya Ipoh\, bertempat di lokasi ikonik Lorong Seni @ Lorong Panglima\, menjanjikan suasana perayaan yang meriah dan penuh warna-warni di tengah bandar Ipoh. 🏮
URL:https://www.tourismperakmalaysia.com/event/sambutan-tahun-bahru-cina-lorong-seni-ipoh/
LOCATION:Lorong Seni @ Lorong Panglima\, Lorong Panglima\, Ipoh\, Perak\, 30000\, Malaysia
CATEGORIES:Cultural,Festivals
ATTACH;FMTTYPE=image/png:https://www.tourismperakmalaysia.com/wp-content/uploads/2026/02/image.png
END:VEVENT
BEGIN:VEVENT
DTSTART;TZID=Asia/Shanghai:20260212T160000
DTEND;TZID=Asia/Shanghai:20260215T230000
DTSTAMP:20260421T014109
CREATED:20260215T170833Z
LAST-MODIFIED:20260215T171652Z
UID:11628-1770912000-1771196400@www.tourismperakmalaysia.com
SUMMARY:Pesta Budaya Tahun Baru Cina 2026 @riverfront Old Town
DESCRIPTION:Pesta Budaya Tahun Baru Cina 2026 akan berlangsung pada 12–15 dan 18–22 Februari 2026\, bermula 4.00 petang hingga 11.00 malam di Kinta Riverwalk\, Ipoh\, menampilkan pelbagai aktiviti menarik sempena musim perayaan termasuk Bazar Tahun Baru Cina\, persembahan Tarian Singa dan Naga\, “24 Festive Drum” serta Orkestra Cina\, persembahan kebudayaan dan live band\, fashion show tradisional\, pertunjukan bunga api serta sesi meet & greet bersama maskot Tahun Melawat Malaysia 2026\, sekali gus menjanjikan pengalaman festival budaya yang meriah dan penuh warna-warni untuk dinikmati bersama keluarga dan rakan-rakan di tengah bandar Ipoh.
URL:https://www.tourismperakmalaysia.com/event/pesta-budaya-tahun-baru-cina-2026-riverfront-old-town/
LOCATION:Kinta Riverwalk\, Ipoh\, Perak\, Kinta Riverwalk\, Ipoh\, Perak\, 30000\, Malaysia
CATEGORIES:Cultural,Festivals
ATTACH;FMTTYPE=image/jpeg:https://www.tourismperakmalaysia.com/wp-content/uploads/2026/02/IMG_4032.jpeg
ORGANIZER;CN="Tourism Perak":MAILTO:wow@tourismperakmalaysia.com
END:VEVENT
BEGIN:VEVENT
DTSTART;TZID=Asia/Shanghai:20251009T090000
DTEND;TZID=Asia/Shanghai:20251012T180000
DTSTAMP:20260421T014109
CREATED:20251023T083304Z
LAST-MODIFIED:20251023T083332Z
UID:11462-1760000400-1760292000@www.tourismperakmalaysia.com
SUMMARY:Festival Seni Seramik Perak 2025
DESCRIPTION:Festival Seni Seramik Perak 2025\n\n\n\nFestival Seni Seramik Perak 2025 menampilkan pameran\, bengkel\, simposium antarabangsa\, serta pelbagai aktiviti seni dan warisan menarik. Dianjurkan oleh Persatuan Seni Seramik Perak (PERSERA)\, festival ini turut merangkumi demonstrasi teknik pemprosesan seramik\, persembahan tradisional seperti silat\, muzik\, tarian\, serta pelancaran Akademi PERSERA. Pengunjung juga boleh menikmati gerai kraf\, makanan dan minuman\, serta permainan rakyat. Masuk adalah percuma.Lokasi di Google Maps
URL:https://www.tourismperakmalaysia.com/event/festival-seni-seramik-perak-2025/
LOCATION:Artworks Hotel\, Ipoh\, No 20\, 28\, Jalan Industri Paloh 1\, Pusat Perniagaan Paloh\, Ipoh\, Perak\, 31650\, Malaysia
CATEGORIES:Cultural
ATTACH;FMTTYPE=image/jpeg:https://www.tourismperakmalaysia.com/wp-content/uploads/2025/10/Festival-Seni-Seramik-Perak-2025.jpg
ORGANIZER;CN="Persatuan Seni Seramik Perak (PERSERA)":MAILTO:perseraperak@yahoo.com
END:VEVENT
BEGIN:VEVENT
DTSTART;TZID=Asia/Shanghai:20250920T080000
DTEND;TZID=Asia/Shanghai:20250920T170000
DTSTAMP:20260421T014109
CREATED:20250914T150159Z
LAST-MODIFIED:20250914T150212Z
UID:11415-1758355200-1758387600@www.tourismperakmalaysia.com
SUMMARY:Hari Kuale Lenggang 2025
DESCRIPTION:Hari Kuale Lenggang ialah acara yang disambut di Kuala Kangsar\, Perak\, yang meraikan warisan\, seni\, dan budaya. Pada tahun 2025\, acara ini akan berlangsung pada 20 September dan akan melibatkan pelbagai aktiviti seperti larian\, explorace\, dan pertandingan sukan tradisional untuk seisi keluarga.
URL:https://www.tourismperakmalaysia.com/event/hari-kuale-lenggang-2025/
LOCATION:Kuala Kangsar\, Kuala Kangsar\, Kuala Kangsar\, Perak\, 33000\, Malaysia
CATEGORIES:Cultural,Expos and Fairs
ATTACH;FMTTYPE=image/jpeg:https://www.tourismperakmalaysia.com/wp-content/uploads/2025/09/Hari-Kuale-Lenggang-2025.jpg
END:VEVENT
BEGIN:VEVENT
DTSTART;TZID=Asia/Shanghai:20250913T080000
DTEND;TZID=Asia/Shanghai:20250913T170000
DTSTAMP:20260421T014109
CREATED:20250914T145241Z
LAST-MODIFIED:20250914T145318Z
UID:11406-1757750400-1757782800@www.tourismperakmalaysia.com
SUMMARY:Keretapi Sarong Ipoh 2025
DESCRIPTION:Keretapi Sarong Ipoh ialah acara tahunan yang akan kembali pada 13 September 2025 untuk sambutan Hari Malaysia\, yang bertujuan untuk merayakan perpaduan dan warisan budaya rakyat Malaysia menerusi busana sarong berwarna-warni dan persembahan muzik. Ia merupakan sebahagian daripada pergerakan budaya yang lebih besar yang dianjurkan oleh LOCCO dan melibatkan pelbagai bandar di seluruh Malaysia\, termasuk Ipoh\, untuk memupuk semangat kebersamaan dan kecintaan terhadap budaya.
URL:https://www.tourismperakmalaysia.com/event/keretapi-sarong-ipoh-2025/
LOCATION:Stesen Keretapi Ipoh\, Stesen Keretapi\, Stesen Keretapi Ipoh\, Jalan Panglima Bukit Gantang Wahab\, Ipoh\, Perak\, 30000\, Malaysia
CATEGORIES:Cultural
ATTACH;FMTTYPE=image/png:https://www.tourismperakmalaysia.com/wp-content/uploads/2025/09/Keretapi-Sarong-Ipoh-2025.png
END:VEVENT
BEGIN:VEVENT
DTSTART;TZID=Asia/Shanghai:20230902T070000
DTEND;TZID=Asia/Shanghai:20230902T170000
DTSTAMP:20260421T014109
CREATED:20230816T070302Z
LAST-MODIFIED:20230816T070306Z
UID:6012-1693638000-1693674000@www.tourismperakmalaysia.com
SUMMARY:Sarong Festival
DESCRIPTION:Pertubuhan Seni Kayangan Perak (PESKAP) bersama Bagi Run Club dengan kerjasama Kementerian Pelancongan\, Seni dan Budaya (MOTAC) dan Jabatan Kebudayaan dan Kesenian Negara (JKKN) akan menganjurkan Sarong Festival pada 2 September 2023 di Bulatan Sultan Azlan Shah bermula jam 7 pagi. \n\n\n\nJom sertai sertai aktiviti utama kami iaitu  \n\n\n\n\nSarong Run (Yuran RM15/pax)\n\n\n\nSukan Rakyat Sarong (Yuran RM50/team)\n\n\n\n\nPelbagai hadiah menarik menanti anda! \n\n\n\nUntuk pendaftaran sila layari laman web: bagievent.com \n\n\n\n\n\n\n\n\n\n\n\n\n\n\n\n\n\nAtau sebarang pertanyaan lanjut boleh hubungi: \n\n\n\n011-1242 6179 (Nad)010-294 5700 (Loy)
URL:https://www.tourismperakmalaysia.com/event/sarong-festival/
LOCATION:Bulatan Sultan Azlan Shah\, Meru\, Persiaran Meru Raya 1\, Ipoh\, Perak\, 30020\, Malaysia
CATEGORIES:Cultural,Festivals
ATTACH;FMTTYPE=image/jpeg:https://www.tourismperakmalaysia.com/wp-content/uploads/2023/08/Sarong-Festival-3.jpg
ORGANIZER;CN="Kelab Olahraga Bagirun":MAILTO:admin@bagievent.com
END:VEVENT
BEGIN:VEVENT
DTSTART;TZID=Asia/Shanghai:20230722T080000
DTEND;TZID=Asia/Shanghai:20230722T170000
DTSTAMP:20260421T014109
CREATED:20230705T162917Z
LAST-MODIFIED:20230705T162921Z
UID:5526-1690012800-1690045200@www.tourismperakmalaysia.com
SUMMARY:Demo Kaligrafi Sempena Awal Muharam
DESCRIPTION:Demo Kaligrafi sempena Awal Muharam
URL:https://www.tourismperakmalaysia.com/event/demo-kaligrafi-sempena-awal-muharam/
LOCATION:Lorong Seni @ Lorong Panglima\, Lorong Panglima\, Ipoh\, Perak\, 30000\, Malaysia
CATEGORIES:Cultural
END:VEVENT
END:VCALENDAR