BEGIN:VCALENDAR
VERSION:2.0
PRODID:-//Tourism Perak Malaysia - ECPv6.15.18//NONSGML v1.0//EN
CALSCALE:GREGORIAN
METHOD:PUBLISH
X-WR-CALNAME:Tourism Perak Malaysia
X-ORIGINAL-URL:https://www.tourismperakmalaysia.com
X-WR-CALDESC:Events for Tourism Perak Malaysia
REFRESH-INTERVAL;VALUE=DURATION:PT1H
X-Robots-Tag:noindex
X-PUBLISHED-TTL:PT1H
BEGIN:VTIMEZONE
TZID:Asia/Shanghai
BEGIN:STANDARD
TZOFFSETFROM:+0800
TZOFFSETTO:+0800
TZNAME:CST
DTSTART:20240101T000000
END:STANDARD
END:VTIMEZONE
BEGIN:VEVENT
DTSTART;TZID=Asia/Shanghai:20250913T080000
DTEND;TZID=Asia/Shanghai:20250913T170000
DTSTAMP:20260421T072051
CREATED:20250914T145241Z
LAST-MODIFIED:20250914T145318Z
UID:11406-1757750400-1757782800@www.tourismperakmalaysia.com
SUMMARY:Keretapi Sarong Ipoh 2025
DESCRIPTION:Keretapi Sarong Ipoh ialah acara tahunan yang akan kembali pada 13 September 2025 untuk sambutan Hari Malaysia\, yang bertujuan untuk merayakan perpaduan dan warisan budaya rakyat Malaysia menerusi busana sarong berwarna-warni dan persembahan muzik. Ia merupakan sebahagian daripada pergerakan budaya yang lebih besar yang dianjurkan oleh LOCCO dan melibatkan pelbagai bandar di seluruh Malaysia\, termasuk Ipoh\, untuk memupuk semangat kebersamaan dan kecintaan terhadap budaya.
URL:https://www.tourismperakmalaysia.com/event/keretapi-sarong-ipoh-2025/
LOCATION:Stesen Keretapi Ipoh\, Stesen Keretapi\, Stesen Keretapi Ipoh\, Jalan Panglima Bukit Gantang Wahab\, Ipoh\, Perak\, 30000\, Malaysia
CATEGORIES:Cultural
ATTACH;FMTTYPE=image/png:https://www.tourismperakmalaysia.com/wp-content/uploads/2025/09/Keretapi-Sarong-Ipoh-2025.png
END:VEVENT
BEGIN:VEVENT
DTSTART;TZID=Asia/Shanghai:20250920T080000
DTEND;TZID=Asia/Shanghai:20250920T170000
DTSTAMP:20260421T072051
CREATED:20250914T150159Z
LAST-MODIFIED:20250914T150212Z
UID:11415-1758355200-1758387600@www.tourismperakmalaysia.com
SUMMARY:Hari Kuale Lenggang 2025
DESCRIPTION:Hari Kuale Lenggang ialah acara yang disambut di Kuala Kangsar\, Perak\, yang meraikan warisan\, seni\, dan budaya. Pada tahun 2025\, acara ini akan berlangsung pada 20 September dan akan melibatkan pelbagai aktiviti seperti larian\, explorace\, dan pertandingan sukan tradisional untuk seisi keluarga.
URL:https://www.tourismperakmalaysia.com/event/hari-kuale-lenggang-2025/
LOCATION:Kuala Kangsar\, Kuala Kangsar\, Kuala Kangsar\, Perak\, 33000\, Malaysia
CATEGORIES:Cultural,Expos and Fairs
ATTACH;FMTTYPE=image/jpeg:https://www.tourismperakmalaysia.com/wp-content/uploads/2025/09/Hari-Kuale-Lenggang-2025.jpg
END:VEVENT
END:VCALENDAR