BEGIN:VCALENDAR
VERSION:2.0
PRODID:-//Tourism Perak Malaysia - ECPv6.15.20//NONSGML v1.0//EN
CALSCALE:GREGORIAN
METHOD:PUBLISH
X-WR-CALNAME:Tourism Perak Malaysia
X-ORIGINAL-URL:https://www.tourismperakmalaysia.com
X-WR-CALDESC:Events for Tourism Perak Malaysia
REFRESH-INTERVAL;VALUE=DURATION:PT1H
X-Robots-Tag:noindex
X-PUBLISHED-TTL:PT1H
BEGIN:VTIMEZONE
TZID:Asia/Shanghai
BEGIN:STANDARD
TZOFFSETFROM:+0800
TZOFFSETTO:+0800
TZNAME:CST
DTSTART:20250101T000000
END:STANDARD
END:VTIMEZONE
BEGIN:VEVENT
DTSTART;TZID=Asia/Shanghai:20260411T080000
DTEND;TZID=Asia/Shanghai:20260411T170000
DTSTAMP:20260425T051224
CREATED:20260410T083908Z
LAST-MODIFIED:20260410T084907Z
UID:11675-1775894400-1775926800@www.tourismperakmalaysia.com
SUMMARY:Eskpresi Aidilfitri 2026
DESCRIPTION:Ekspresi Aidilfitri 2026 merupakan program anjuran Majlis Bandaraya Ipoh\n\n\n\nEkspresi Aidilfitri 2026 merupakan program anjuran Majlis Bandaraya Ipoh yang menghimpunkan pelbagai aktiviti seni\, budaya dan kreativiti sempena sambutan Hari Raya Aidilfitri. Bertempat di Lorong Seni @ Lorong Panglima\, program ini bertujuan memeriahkan suasana bandar serta menggalakkan penglibatan komuniti dalam menghayati keindahan warisan tempatan.
URL:https://www.tourismperakmalaysia.com/event/eskpresi-aidilfitri-2026/
LOCATION:Lorong Seni @ Lorong Panglima\, Lorong Panglima\, Ipoh\, Perak\, 30000\, Malaysia
CATEGORIES:Festivals
ATTACH;FMTTYPE=image/jpeg:https://www.tourismperakmalaysia.com/wp-content/uploads/2026/04/Ekspresi-Aidilfitri-2026-MBI.jpeg
END:VEVENT
END:VCALENDAR